BEGIN:VCALENDAR
VERSION:2.0
PRODID:-//Dorpskerk Meeden - ECPv6.15.20//NONSGML v1.0//EN
CALSCALE:GREGORIAN
METHOD:PUBLISH
X-WR-CALNAME:Dorpskerk Meeden
X-ORIGINAL-URL:https://pknmeeden.nl
X-WR-CALDESC:Evenementen voor Dorpskerk Meeden
REFRESH-INTERVAL;VALUE=DURATION:PT1H
X-Robots-Tag:noindex
X-PUBLISHED-TTL:PT1H
BEGIN:VTIMEZONE
TZID:UTC
BEGIN:STANDARD
TZOFFSETFROM:+0000
TZOFFSETTO:+0000
TZNAME:UTC
DTSTART:20250101T000000
END:STANDARD
END:VTIMEZONE
BEGIN:VEVENT
DTSTART;TZID=UTC:20261003T143000
DTEND;TZID=UTC:20261003T180000
DTSTAMP:20260424T170159
CREATED:20260407T134957Z
LAST-MODIFIED:20260407T135000Z
UID:1186-1791037800-1791050400@pknmeeden.nl
SUMMARY:Rengers verraad - Stichting Historische verhalen
DESCRIPTION:
URL:https://pknmeeden.nl/event/rengers-verraad-stichting-historische-verhalen/
LOCATION:Dorpskerk Meeden\, Meeden
END:VEVENT
BEGIN:VEVENT
DTSTART;VALUE=DATE:20261017
DTEND;VALUE=DATE:20261018
DTSTAMP:20260424T170159
CREATED:20260406T091015Z
LAST-MODIFIED:20260406T091019Z
UID:1184-1792195200-1792281599@pknmeeden.nl
SUMMARY:Schnitgerfestival
DESCRIPTION:
URL:https://pknmeeden.nl/event/schnitgerfestival/
LOCATION:Dorpskerk Meeden\, Meeden
END:VEVENT
END:VCALENDAR