BEGIN:VCALENDAR
VERSION:2.0
PRODID:-//Dorpskerk Meeden - ECPv6.15.20//NONSGML v1.0//EN
CALSCALE:GREGORIAN
METHOD:PUBLISH
X-WR-CALNAME:Dorpskerk Meeden
X-ORIGINAL-URL:https://pknmeeden.nl
X-WR-CALDESC:Evenementen voor Dorpskerk Meeden
REFRESH-INTERVAL;VALUE=DURATION:PT1H
X-Robots-Tag:noindex
X-PUBLISHED-TTL:PT1H
BEGIN:VTIMEZONE
TZID:UTC
BEGIN:STANDARD
TZOFFSETFROM:+0000
TZOFFSETTO:+0000
TZNAME:UTC
DTSTART:20250101T000000
END:STANDARD
END:VTIMEZONE
BEGIN:VEVENT
DTSTART;TZID=UTC:20260912T100000
DTEND;TZID=UTC:20260912T160000
DTSTAMP:20260424T150349
CREATED:20260406T090808Z
LAST-MODIFIED:20260406T090820Z
UID:1180-1789207200-1789228800@pknmeeden.nl
SUMMARY:Open Monumentendag
DESCRIPTION:
URL:https://pknmeeden.nl/event/open-monumentendag/
LOCATION:Dorpskerk Meeden\, Meeden
END:VEVENT
END:VCALENDAR