BEGIN:VCALENDAR
VERSION:2.0
PRODID:-//Dorpskerk Meeden - ECPv6.15.20//NONSGML v1.0//EN
CALSCALE:GREGORIAN
METHOD:PUBLISH
X-ORIGINAL-URL:https://pknmeeden.nl
X-WR-CALDESC:Evenementen voor Dorpskerk Meeden
REFRESH-INTERVAL;VALUE=DURATION:PT1H
X-Robots-Tag:noindex
X-PUBLISHED-TTL:PT1H
BEGIN:VTIMEZONE
TZID:UTC
BEGIN:STANDARD
TZOFFSETFROM:+0000
TZOFFSETTO:+0000
TZNAME:UTC
DTSTART:20250101T000000
END:STANDARD
END:VTIMEZONE
BEGIN:VEVENT
DTSTART;TZID=UTC:20260509T100000
DTEND;TZID=UTC:20260509T160000
DTSTAMP:20260424T090339
CREATED:20260406T090522Z
LAST-MODIFIED:20260406T090528Z
UID:1176-1778320800-1778342400@pknmeeden.nl
SUMMARY:Orgeldag Noord Nederland
DESCRIPTION:
URL:https://pknmeeden.nl/event/orgeldag-noord-nederland/
END:VEVENT
END:VCALENDAR